0.0058240
0.0
0.00000
-0.005824000000
-73.8450360
45.0700360
