0.00596000000
0.00000000
0.0000000
-0.005960000
-99.7089340000000
46.5679340
