0.00525000000
0.00000000
0.0
-0.005250000
-106.244131
37.2591310
