0.0057780
0.0
0.0000
-0.005778000
-90.6191280
44.5401280
