0.00577800
0.0
0.00
-0.00577800000
-90.6191280
44.54012800
