0.0051200
0.0
0.000
-0.005120
-96.40103200000
35.0110320
