0.005410000
0.00000
0.0000000
-0.0054100000
-82.9789360000
39.728936
