0.008996470588235
0.000000000000000
0.000000000000000
-0.008996666666667
-179.229999999999990
65.480000000000004
