0.035980645161290
0.000000000000000
0.000000000000000
-0.035973684210526
-196.750000000000000
65.989999999999995
