0.008996666666667
0.000000000000000
0.000000000000000
-0.008996666666667
-110.480000000000004
65.480000000000004
