0.035973684210526
0.000000000000000
0.000000000000000
-0.035973684210526
-110.989999999999995
65.989999999999995
