0.010000000000000
0.00000
0.00000
-0.010000000000000
-126.000000
50.0000
