0.010000000000000
0.00000
0.00000
-0.010000000000000
-104.000000
49.0000
