52.038610000000006
0.0
0.0
-52.038610000000517
431765.24597587570
4689526.5585787278
