10
0.0
0.0
-10
377672
4744820
